
BEGIN:VCALENDAR
VERSION:2.0
PRODID:-//eventon.com NONSGML v1.0//EN
CALSCALE:GREGORIAN
METHOD:PUBLISH
BEGIN:VEVENT
UID:69e873815d095
DTSTAMP:20260422T070641Z
DTSTART:20171110
DTEND:20171111
LOCATION:
SUMMARY:CRBC Closed-Veterans Day
DESCRIPTION:Please be noted that the CRBC offices will be closed on Novembe
 r 10\,  2017\,  in observance of Veterans Day. &nbsp; Thank you and God ble
 ss!\nhttps://www.crbc.org/blog/events/crbc-closed-veterans-day/
URL:https://www.crbc.org/blog/events/crbc-closed-veterans-day/
END:VEVENT
END:VCALENDAR