
BEGIN:VCALENDAR
VERSION:2.0
PRODID:-//eventon.com NONSGML v1.0//EN
CALSCALE:GREGORIAN
METHOD:PUBLISH
BEGIN:VEVENT
UID:69eba72be6310
DTSTAMP:20260424T172355Z
DTSTART:20171203T123000Z
DTEND:20171203T131500Z
LOCATION:Calvary Road Baptist Church\,  Student Center
SUMMARY:Summer 2018 Missions Trip Interest Meeting
DESCRIPTION:Parents and highschool students are invited to attend this impo
 rtant planning meeting to hear about plans for our Summer 2018 Mission&#821
 7;s Trip. &nbsp; At this meeting\,  you will hear about our location option
 s (Belize\,  London\,  or Alaska)\,  our ministry plans\,  pricing\,  and f
 und-raising opportunities. &nbsp; We are open to new[..]\nhttps://www.crbc.
 org/blog/events/parent-meeting-9/
URL:https://www.crbc.org/blog/events/parent-meeting-9/
END:VEVENT
END:VCALENDAR