
BEGIN:VCALENDAR
VERSION:2.0
PRODID:-//eventon.com NONSGML v1.0//EN
CALSCALE:GREGORIAN
METHOD:PUBLISH
BEGIN:VEVENT
UID:69e9d36a5b1b7
DTSTAMP:20260423T080810Z
DTSTART:20171231T210000Z
DTEND:20171231T010000Z
LOCATION:Pastor &amp; Mrs. Corey’s House
SUMMARY:NG712 New Year’s Eve Party
DESCRIPTION:A perfect year-starter! &nbsp; &nbsp; Come and join our NG712 N
 ew Year’s Eve Party at Pastor and Mrs. Corey’s House on December 31\,  
 2017\,  Sunday\,  from 9:00 PM to 1:00 AM. &nbsp; &nbsp; To Register\,  ple
 ase log in with your parent account and visit the link www.crbc.org/nextgen
 /ng712-new-years-eve-party-at-pastor-mrs-coreys-house. &nbsp; &nbsp; This[.
 .]\nhttps://www.crbc.org/blog/events/ng712-new-years-eve-party/
URL:https://www.crbc.org/blog/events/ng712-new-years-eve-party/
END:VEVENT
END:VCALENDAR