
BEGIN:VCALENDAR
VERSION:2.0
PRODID:-//eventon.com NONSGML v1.0//EN
CALSCALE:GREGORIAN
METHOD:PUBLISH
BEGIN:VEVENT
UID:69e989d3304f9
DTSTAMP:20260423T025411Z
DTSTART:20180405
DTEND:20180406
LOCATION:Liberty University\,  Lynchburg VA
SUMMARY:NG712 College For A Weekend
DESCRIPTION:&nbsp; Come with us on our NG712 College for a Weekend (CFAW) o
 n April 5-8\,  2018 at the Liberty University\,  Lynchburg VA. &nbsp; To re
 gister\,  please log in with your parent account and visit the page NG712 C
 FAW 2018. &nbsp; $75 per person for Grades 10-12. Price includes transporta
 tion\,  lodging\, [..]\nhttps://www.crbc.org/blog/events/ng712-college-for-
 a-weekend/
URL:https://www.crbc.org/blog/events/ng712-college-for-a-weekend/
END:VEVENT
END:VCALENDAR