
BEGIN:VCALENDAR
VERSION:2.0
PRODID:-//eventon.com NONSGML v1.0//EN
CALSCALE:GREGORIAN
METHOD:PUBLISH
BEGIN:VEVENT
UID:69e6e83e54d8a
DTSTAMP:20260421T030014Z
DTSTART:20180610T110000Z
DTEND:20180610T235000Z
LOCATION:Calvary Road Baptist Church 6811 BEULAH STREET\,  ALEXANDRIA\,  VA 22310
SUMMARY:39th Anniversary Picnic
DESCRIPTION:&nbsp; On June 10\,  right after the service at 9:30am\,  we wi
 ll have a picnic on the grounds with hamburgers\,  hot dogs\,  snow cones\,
   and chips for everyone. &nbsp; There will be a large tent for some shade 
 and moon bounces for extreme fun. &nbsp;\nhttps://www.crbc.org/blog/events/
 39th-anniversary-service-2/
URL:https://www.crbc.org/blog/events/39th-anniversary-service-2/
END:VEVENT
END:VCALENDAR