
BEGIN:VCALENDAR
VERSION:2.0
PRODID:-//eventon.com NONSGML v1.0//EN
CALSCALE:GREGORIAN
METHOD:PUBLISH
BEGIN:VEVENT
UID:69e84b016a21b
DTSTAMP:20260422T041353Z
DTSTART:20170421T190000Z
DTEND:20170421T220000Z
LOCATION:Calvary Road Baptist Church 6811 BEULAH STREET\,  ALEXANDRIA\,  VA 22310
SUMMARY:Game Night/Bouncy Ball Blitz
DESCRIPTION:Bouncy-Ball Blitz\,  Glow-in-the-Dark Dodgeball &amp; Student C
 enter Games Pizza included $5 per person\nhttps://www.crbc.org/blog/events/
 game-nightbouncy-ball-blitz/
URL:https://www.crbc.org/blog/events/game-nightbouncy-ball-blitz/
END:VEVENT
END:VCALENDAR