
BEGIN:VCALENDAR
VERSION:2.0
PRODID:-//eventon.com NONSGML v1.0//EN
CALSCALE:GREGORIAN
METHOD:PUBLISH
BEGIN:VEVENT
UID:69e9d16ce7580
DTSTAMP:20260423T075940Z
DTSTART:20180922T080000Z
DTEND:20180922T170000Z
LOCATION:Calvary Road Baptist Church 6811 BEULAH STREET\,  ALEXANDRIA\,  VA 22310
SUMMARY:Fall Children's Consignment Sale
DESCRIPTION:&nbsp; Be part of our local and worldwide missions! &nbsp; Join
  us on our Fall Children&#8217;s Consignment Sale on September 22\,  2018 f
 rom 8:00 AM to 5:00 PM at Calvary Road Baptist Church. &nbsp; Registration 
 is NOW OPEN. &nbsp; For more information\,  kindly visit https://www.crbc.o
 rg/ministries/childrens-consignment/ &nbsp;\nhttps://www.crbc.org/blog/even
 ts/fall-childrens-consignment-sale/
URL:https://www.crbc.org/blog/events/fall-childrens-consignment-sale/
END:VEVENT
END:VCALENDAR