
BEGIN:VCALENDAR
VERSION:2.0
PRODID:-//eventon.com NONSGML v1.0//EN
CALSCALE:GREGORIAN
METHOD:PUBLISH
BEGIN:VEVENT
UID:69e9cfff6452d
DTSTAMP:20260423T075335Z
DTSTART:20180905T181500Z
DTEND:20180905T235000Z
LOCATION:Calvary Road Baptist Church 6811 BEULAH STREET\,  ALEXANDRIA\,  VA 22310
SUMMARY:AWANA and Connect Classes
DESCRIPTION:&nbsp; Please be guided properly! &nbsp; AWANA and Connect clas
 ses will start on September 5\,  Wednesday. &nbsp; AWANA classes begin at 6
 :15 PM and Connect classes at 7 PM. &nbsp;\nhttps://www.crbc.org/blog/event
 s/awana-and-connect-classes/
URL:https://www.crbc.org/blog/events/awana-and-connect-classes/
END:VEVENT
END:VCALENDAR