
BEGIN:VCALENDAR
VERSION:2.0
PRODID:-//eventon.com NONSGML v1.0//EN
CALSCALE:GREGORIAN
METHOD:PUBLISH
BEGIN:VEVENT
UID:69e8e39e6f184
DTSTAMP:20260422T150502Z
DTSTART:20181028T093000Z
DTEND:20181028T235000Z
LOCATION:Calvary Road Baptist Church 6811 BEULAH STREET\,  ALEXANDRIA\,  VA 22310
SUMMARY:Pastors’ Appreciation Sunday
DESCRIPTION:&nbsp; Let&#8217;s give our pastors and their wives thanks and 
 recognition! &nbsp; Join us on our Pastors’ Appreciation Sunday this comi
 ng October 28 during our worship services at 9:30 and 11:00 AM. &nbsp;\nhtt
 ps://www.crbc.org/blog/events/pastors-appreciation-sunday-9-30/
URL:https://www.crbc.org/blog/events/pastors-appreciation-sunday-9-30/
END:VEVENT
END:VCALENDAR