
BEGIN:VCALENDAR
VERSION:2.0
PRODID:-//eventon.com NONSGML v1.0//EN
CALSCALE:GREGORIAN
METHOD:PUBLISH
BEGIN:VEVENT
UID:69e7d44252412
DTSTAMP:20260421T194714Z
DTSTART:20181122
DTEND:20181123
LOCATION:Calvary Road Baptist Church 6811 BEULAH STREET\,  ALEXANDRIA\,  VA 22310
SUMMARY:Happy Thanksgiving
DESCRIPTION:&nbsp; Let&#8217;s celebrate a happy and more meaningful Thanks
 giving this November 22. &nbsp; Please be informed that Church offices will
  be closed on November 22 and 23. &nbsp;\nhttps://www.crbc.org/blog/events/
 happy-thanksgiving/
URL:https://www.crbc.org/blog/events/happy-thanksgiving/
END:VEVENT
END:VCALENDAR