
BEGIN:VCALENDAR
VERSION:2.0
PRODID:-//eventon.com NONSGML v1.0//EN
CALSCALE:GREGORIAN
METHOD:PUBLISH
BEGIN:VEVENT
UID:69e6ab3d7792c
DTSTAMP:20260420T223957Z
DTSTART:20190127T123000Z
DTEND:20190127T140000Z
LOCATION:Calvary Road Baptist Church\,  Gymnasium
SUMMARY:Youth Missions Fundraiser luncheons
DESCRIPTION:We gladly invite you to Youth Missions Fundraiser Luncheon! &nb
 sp; Hope to see you this Sunday\,  January 27 from 12:30-2:00 PM in the Gym
 nasium. You can look forward to Bake Sale with delicious homemade treats. &
 nbsp; The price is $7 per person/ $35 per family max. Also\,  there will be
 [..]\nhttps://www.crbc.org/blog/events/youth-missions-fundraiser-luncheons/
URL:https://www.crbc.org/blog/events/youth-missions-fundraiser-luncheons/
END:VEVENT
END:VCALENDAR