
BEGIN:VCALENDAR
VERSION:2.0
PRODID:-//eventon.com NONSGML v1.0//EN
CALSCALE:GREGORIAN
METHOD:PUBLISH
BEGIN:VEVENT
UID:69e8bc776dd11
DTSTAMP:20260422T121759Z
DTSTART:20191031T183000Z
DTEND:20191031T203000Z
LOCATION:Calvary Road Baptist Church 6811 BEULAH STREET\,  ALEXANDRIA\,  VA 22310
SUMMARY:Trunk or Treat 2019
DESCRIPTION:Trunk or Treat! &nbsp; Peek-a-boo! No Scary Costumes! Drive thr
 u the fun on Thursday\,  October 31 from 6:30 to 8:30 PM &nbsp; Enjoy excit
 ing activities like face painting\,  treats\,  hot chocolate\,  baked goods
  and so much more! &nbsp; If you’re interested in volunteering\,  we need
  your help!! &nbsp; To volunteer\, [..]\nhttps://www.crbc.org/blog/events/t
 runk-or-treat-2019/
URL:https://www.crbc.org/blog/events/trunk-or-treat-2019/
END:VEVENT
END:VCALENDAR