
BEGIN:VCALENDAR
VERSION:2.0
PRODID:-//eventon.com NONSGML v1.0//EN
CALSCALE:GREGORIAN
METHOD:PUBLISH
BEGIN:VEVENT
UID:69e8e0bac9f1f
DTSTAMP:20260422T145242Z
DTSTART:20200311T183000Z
DTEND:20200311T203000Z
LOCATION:Calvary Road Baptist Church\,  Student Center
SUMMARY:NG712 EntryPoint The Prodigal Son : The Lie
DESCRIPTION:Join in our Wednesday Night lesson and activities. &nbsp; The P
 rodigal Son\,  Session 2 : The Lie\,  on March 11 at 6:30 PM. &nbsp; Visit 
 this page for more info https://www.crbc.org/nextgen/nextgen-7-12/mid-week
 /\nhttps://www.crbc.org/blog/events/ng712-entrypoint-the-prodigal-son-the-l
 ie/
URL:https://www.crbc.org/blog/events/ng712-entrypoint-the-prodigal-son-the-lie/
END:VEVENT
END:VCALENDAR