
BEGIN:VCALENDAR
VERSION:2.0
PRODID:-//eventon.com NONSGML v1.0//EN
CALSCALE:GREGORIAN
METHOD:PUBLISH
BEGIN:VEVENT
UID:69e71b21adbc9
DTSTAMP:20260421T063721Z
DTSTART:20200719
DTEND:20200720
LOCATION:Camp Kanesatake\,  Spruce Creek\,  PA
SUMMARY:2020 NextGen16 Camp Kanesatake (Junior Camp 2)
DESCRIPTION:&nbsp; Join our NextGen16 Camp Kanesatake (Junior Camp 2) on Ju
 ly 19 to 24. &nbsp; The event is open for all children rising Grades 3-7 &n
 bsp; Early-Bird Price (before August 8th) is $270 per camper. After August 
 8th price is $290/camper. &nbsp; For more information and to register\,  pl
 ease visit[..]\nhttps://www.crbc.org/blog/events/2020-nextgen16-camp-kanesa
 take-junior-camp/
URL:https://www.crbc.org/blog/events/2020-nextgen16-camp-kanesatake-junior-camp/
END:VEVENT
END:VCALENDAR