
BEGIN:VCALENDAR
VERSION:2.0
PRODID:-//eventon.com NONSGML v1.0//EN
CALSCALE:GREGORIAN
METHOD:PUBLISH
BEGIN:VEVENT
UID:69e9e47036852
DTSTAMP:20260423T092048Z
DTSTART:20200510T110000Z
DTEND:20200510T235000Z
LOCATION:
SUMMARY:Celebrate Mother’s Day with Us
DESCRIPTION:Celebrate Mother’s Day with Us! &nbsp; Join Calvary Road Bapt
 ist Church in thanking our Christian mothers for nurturing God’s children
  and becoming examples of His love. Our Mother’s Day Sunday service is on
  May 10 at 11:00 AM on Facebook Live.\nhttps://www.crbc.org/blog/events/cel
 ebrate-mothers-day-with-us/
URL:https://www.crbc.org/blog/events/celebrate-mothers-day-with-us/
END:VEVENT
END:VCALENDAR