
BEGIN:VCALENDAR
VERSION:2.0
PRODID:-//eventon.com NONSGML v1.0//EN
CALSCALE:GREGORIAN
METHOD:PUBLISH
BEGIN:VEVENT
UID:69e9bb6cc7502
DTSTAMP:20260423T062548Z
DTSTART:20201011T110000Z
DTEND:20201011T235000Z
LOCATION:Calvary Road Baptist Church 6811 BEULAH STREET\,  ALEXANDRIA\,  VA 22310
SUMMARY:Pastor's Appreciation Day
DESCRIPTION:&nbsp; Let&#8217;s give our pastors and their wives thanks and 
 recognition! &nbsp; Join us on our Pastors’ Appreciation Sunday this comi
 ng October 11 during our worship service at 11:00 AM. &nbsp;\nhttps://www.c
 rbc.org/blog/events/pastors-appreciation-day/
URL:https://www.crbc.org/blog/events/pastors-appreciation-day/
END:VEVENT
END:VCALENDAR