
BEGIN:VCALENDAR
VERSION:2.0
PRODID:-//eventon.com NONSGML v1.0//EN
CALSCALE:GREGORIAN
METHOD:PUBLISH
BEGIN:VEVENT
UID:69e5a462c5f81
DTSTAMP:20260420T035826Z
DTSTART:20210123T124500Z
DTEND:20210124T045000Z
LOCATION:Calvary Road Baptist Church\,  Gymnasium
SUMMARY:Men's Bible Study
DESCRIPTION:Join our Men&#8217;s Bible Study\,  Tony Evans Kingdom Man\,  e
 very Saturday beginning this January 23\,  2021 at 7:45 AM in the Gymnasium
 . See you there!\nhttps://www.crbc.org/blog/events/mens-bible-study/
URL:https://www.crbc.org/blog/events/mens-bible-study/
END:VEVENT
END:VCALENDAR