
BEGIN:VCALENDAR
VERSION:2.0
PRODID:-//eventon.com NONSGML v1.0//EN
CALSCALE:GREGORIAN
METHOD:PUBLISH
BEGIN:VEVENT
UID:69e94a2a3ed63
DTSTAMP:20260422T222234Z
DTSTART:20210509T203000Z
DTEND:20210509T220000Z
LOCATION:Calvary Road Baptist Church 6811 BEULAH STREET\,  ALEXANDRIA\,  VA 22310
SUMMARY:Mother's Day 2021
DESCRIPTION:Celebrate Mother’s Day with Us! &nbsp; Join Calvary Road Bapt
 ist Church in thanking our Christian mothers for nurturing God’s children
  and becoming examples of His love. Our Mother’s Day Sunday services are 
 on May 09 at 9:30 AM and 11:00 AM.\nhttps://www.crbc.org/blog/events/mother
 s-day-2021/
URL:https://www.crbc.org/blog/events/mothers-day-2021/
END:VEVENT
END:VCALENDAR