
BEGIN:VCALENDAR
VERSION:2.0
PRODID:-//eventon.com NONSGML v1.0//EN
CALSCALE:GREGORIAN
METHOD:PUBLISH
BEGIN:VEVENT
UID:69eba5310b911
DTSTAMP:20260424T171529Z
DTSTART:20210912T203000Z
DTEND:20210912T220000Z
LOCATION:Calvary Road Baptist Church 6811 BEULAH STREET\,  ALEXANDRIA\,  VA 22310
SUMMARY:Patriot Day
DESCRIPTION:Join us recognizing and remembering the 20th Anniversary of 9-1
 1 on September 12\,  2021 during the 9:30 AM and 11:00 AM services. Our gue
 st speaker is Dr. Tim Lee. Here&#8217;s a glance of Dr. Tim Lee&#8217;s bio
 graphy. Tim Lee was born and raised in southern Illinois to John and Wanda[
 ..]\nhttps://www.crbc.org/blog/events/patriot-day/
URL:https://www.crbc.org/blog/events/patriot-day/
END:VEVENT
END:VCALENDAR