
BEGIN:VCALENDAR
VERSION:2.0
PRODID:-//eventon.com NONSGML v1.0//EN
CALSCALE:GREGORIAN
METHOD:PUBLISH
BEGIN:VEVENT
UID:69e64f825422e
DTSTAMP:20260420T160834Z
DTSTART:20210925T190000Z
DTEND:20210926T105000Z
LOCATION:Calvary Road Baptist Church 6811 BEULAH STREET\,  ALEXANDRIA\,  VA 22310
SUMMARY:Fall 2021 Children's Consignment Sale
DESCRIPTION:Welcome Back!!! We will have our Fall 2021 Children&#8217;s Con
 signment Sale on September 25th\,  2021. For more information\,  please vis
 it the CRBC Consignment page.\nhttps://www.crbc.org/blog/events/fall-2021-c
 hildrens-consignment-sale/
URL:https://www.crbc.org/blog/events/fall-2021-childrens-consignment-sale/
END:VEVENT
END:VCALENDAR