
BEGIN:VCALENDAR
VERSION:2.0
PRODID:-//eventon.com NONSGML v1.0//EN
CALSCALE:GREGORIAN
METHOD:PUBLISH
BEGIN:VEVENT
UID:69e80f1e4a997
DTSTAMP:20260421T235822Z
DTSTART:20220417T203000Z
DTEND:20220418T105000Z
LOCATION:Calvary Road Baptist Church 6811 BEULAH STREET\,  ALEXANDRIA\,  VA 22310
SUMMARY:Celebrate the Resurrection - Easter Sunday
DESCRIPTION:Celebrate the Resurrection with Calvary Road Baptist Church on 
 Easter Sunday. &nbsp; We&#8217;re holding an Easter Sunday event this April
  17 with our guest speaker\,  Mike Licona. &nbsp; Hear his knowledge of Jes
 us and God&#8217;s saving grace by attending our service at 9:30 AM and 11:
 00 AM. Come and join[..]\nhttps://www.crbc.org/blog/events/celebrate-the-re
 surrection-easter-sunday/
URL:https://www.crbc.org/blog/events/celebrate-the-resurrection-easter-sunday/
END:VEVENT
END:VCALENDAR