
BEGIN:VCALENDAR
VERSION:2.0
PRODID:-//eventon.com NONSGML v1.0//EN
CALSCALE:GREGORIAN
METHOD:PUBLISH
BEGIN:VEVENT
UID:69e6e92b658bb
DTSTAMP:20260421T030411Z
DTSTART:20220612T220000Z
DTEND:20220613T105000Z
LOCATION:Calvary Road Baptist Church Auditorium
SUMMARY:CRBC 43rd Anniversary Sunday
DESCRIPTION:Join us on June 12\,  2022 as we celebrate our 43rd Anniversary
  Sunday! &nbsp; We will gather together for one service at 11:00 am at the 
 CRBC Auditorium. &nbsp; Nursery will be available for children 0-5 years ol
 d. &nbsp; Family cookout on the grounds following the service. &nbsp; On th
 e[..]\nhttps://www.crbc.org/blog/events/crbc-43rd-anniversary-sunday/
URL:https://www.crbc.org/blog/events/crbc-43rd-anniversary-sunday/
END:VEVENT
END:VCALENDAR