
BEGIN:VCALENDAR
VERSION:2.0
PRODID:-//eventon.com NONSGML v1.0//EN
CALSCALE:GREGORIAN
METHOD:PUBLISH
BEGIN:VEVENT
UID:69e71cfcd44cd
DTSTAMP:20260421T064516Z
DTSTART:20221022T193000Z
DTEND:20221022T223000Z
LOCATION:Calvary Road Baptist Church\,  Gymnasium
SUMMARY:Women’s Ministry Quarterly Breakfast
DESCRIPTION:Women’s Ministry Quarterly Breakfast! &nbsp; Come join us for
  a delicious breakfast\,  warm fellowship and a time of prayer and a devoti
 onal. &nbsp; It will be on October 22\,  2022 from 8:30 AM &#8211; 11:30 AM
  at CRBC Gym. &nbsp; See you there!\nhttps://www.crbc.org/blog/events/women
 s-ministry-quarterly-breakfast-fall/
URL:https://www.crbc.org/blog/events/womens-ministry-quarterly-breakfast-fall/
END:VEVENT
END:VCALENDAR