
BEGIN:VCALENDAR
VERSION:2.0
PRODID:-//eventon.com NONSGML v1.0//EN
CALSCALE:GREGORIAN
METHOD:PUBLISH
BEGIN:VEVENT
UID:69e7e66650516
DTSTAMP:20260421T210438Z
DTSTART:20230211T193000Z
DTEND:20230212T105000Z
LOCATION:Calvary Road Baptist Church 6811 BEULAH STREET\,  ALEXANDRIA\,  VA 22310
SUMMARY:Marriage Conference
DESCRIPTION:On Saturday\,  February 11th at 8:30 am\,  there will be a Marr
 iage Conference with Pastor Tim St. Clair and his wife\,  Nancy at CRBC. A 
 light breakfast will be available from 8:30 am -9:00 am and the conference 
 will begin in the auditorium promptly at 9:00 am. There will be[..]\nhttps:
 //www.crbc.org/blog/events/marriage-conference/
URL:https://www.crbc.org/blog/events/marriage-conference/
END:VEVENT
END:VCALENDAR