
BEGIN:VCALENDAR
VERSION:2.0
PRODID:-//eventon.com NONSGML v1.0//EN
CALSCALE:GREGORIAN
METHOD:PUBLISH
BEGIN:VEVENT
UID:69e8ba557c0db
DTSTAMP:20260422T120853Z
DTSTART:20230724
DTEND:20230725
LOCATION:Camp Kanesatake\,  Spruce Creek\,  PA
SUMMARY:NG16 Summer Camp Junior Camp 3
DESCRIPTION:Join the Camp Kanesatake Summer Camp Junior Camp 3. &nbsp; Juni
 or Camp 3 is on July 24 â€“ 28. For all children with completion of Grades 
 2-6. Speaker:Â  Ben Ice &nbsp; Early Bird discount of $20 ends on April 1 â
 €“ youÂ MUSTÂ register by this date to receive the discount. &nbsp;[..]\nht
 tps://www.crbc.org/blog/events/camp-kanesatake-summer-camp-junior-camp/
URL:https://www.crbc.org/blog/events/camp-kanesatake-summer-camp-junior-camp/
END:VEVENT
END:VCALENDAR