
BEGIN:VCALENDAR
VERSION:2.0
PRODID:-//eventon.com NONSGML v1.0//EN
CALSCALE:GREGORIAN
METHOD:PUBLISH
BEGIN:VEVENT
UID:69e64d1b02836
DTSTAMP:20260420T155819Z
DTSTART:20230730
DTEND:20230731
LOCATION:Camp Kanesatake\,  Spruce Creek\,  PA
SUMMARY:NG712 Summer Camp Teen Camp 3
DESCRIPTION:Join the Camp Kanesatake Summer Camp Teen Camp 3. &nbsp; Teen C
 amp 3 is on July 30 – August 04. For students who have completed Grades 7
 -12. Speaker:  Tim Jordan &nbsp; Early Bird discount of $20 ends on April 
 1 – you MUST register by this date to receive the discount. &nbsp;[..]\
 nhttps://www.crbc.org/blog/events/ng712-summer-camp-teen-camp-3/
URL:https://www.crbc.org/blog/events/ng712-summer-camp-teen-camp-3/
END:VEVENT
END:VCALENDAR