
BEGIN:VCALENDAR
VERSION:2.0
PRODID:-//eventon.com NONSGML v1.0//EN
CALSCALE:GREGORIAN
METHOD:PUBLISH
BEGIN:VEVENT
UID:69e994485523e
DTSTAMP:20260423T033848Z
DTSTART:20230618T210000Z
DTEND:20230619T105000Z
LOCATION:Calvary Road Baptist Church\,  Gymnasium
SUMMARY:Show Me The Father
DESCRIPTION:This Sunday\,  June 18th\,  we will have one service at 10:00 a
 m. &nbsp; Children in grades First through Sixth are invited to watch a mov
 ie in the gymnasium. &nbsp; Nursery will be available. &nbsp; Due to copyri
 ght\,  we will not be able to livestream the service.\nhttps://www.crbc.org
 /blog/events/show-me-the-father/
URL:https://www.crbc.org/blog/events/show-me-the-father/
END:VEVENT
END:VCALENDAR