
BEGIN:VCALENDAR
VERSION:2.0
PRODID:-//eventon.com NONSGML v1.0//EN
CALSCALE:GREGORIAN
METHOD:PUBLISH
BEGIN:VEVENT
UID:69e7390516509
DTSTAMP:20260421T084453Z
DTSTART:20240105
DTEND:20240106
LOCATION:Camp Kanesatake\,  Spruce Creek\,  PA
SUMMARY:Teen Winter Retreat
DESCRIPTION:Join the Teen Winter Retreat on January 5-7\,  2024 Cost per te
 en: $150 $75 due at time of registration Registration due by December 24\, 
  2023 &nbsp; For more info\,  please click here.\nhttps://www.crbc.org/blog
 /events/teen-winter-retreat/
URL:https://www.crbc.org/blog/events/teen-winter-retreat/
END:VEVENT
END:VCALENDAR