
BEGIN:VCALENDAR
VERSION:2.0
PRODID:-//eventon.com NONSGML v1.0//EN
CALSCALE:GREGORIAN
METHOD:PUBLISH
BEGIN:VEVENT
UID:69e513b757e39
DTSTAMP:20260419T174111Z
DTSTART:20240913T193000Z
DTEND:20240915T180000Z
LOCATION:Liberty University\,  Lynchburg VA
SUMMARY:Joint NG712 and Rise Homecoming Liberty University
DESCRIPTION:Be part of this year&#8217;s &#8220;Joint NG712 and Rise Homeco
 ming Liberty University&#8221;. &nbsp; The event includes a trip to Liberty
  University\,  a chance to enjoy the Carnival on the academic lawn and Many
  more. &nbsp; Overnight accommodations is also provided by: Tru by Hilton a
 t 650 Simons Run Lynchburg\,  VA[..]\nhttps://www.crbc.org/blog/events/join
 t-ng712-and-rise-homecoming-liberty-university/
URL:https://www.crbc.org/blog/events/joint-ng712-and-rise-homecoming-liberty-university/
END:VEVENT
END:VCALENDAR