
BEGIN:VCALENDAR
VERSION:2.0
PRODID:-//eventon.com NONSGML v1.0//EN
CALSCALE:GREGORIAN
METHOD:PUBLISH
BEGIN:VEVENT
UID:69e53ba89bfa7
DTSTAMP:20260419T203136Z
DTSTART:20240908T150000Z
DTEND:20240909T035000Z
LOCATION:Cottage C
SUMMARY:Connect Classes : Foundations
DESCRIPTION:This new Connect class called &#8220;Foundations&#8221; will be
 gin on Sunday\,  September 8th at 11 am in Cottage C. &nbsp; The class is d
 esigned for New Believers who desire to grow in their faith. &nbsp; Please 
 sign up in advance! Sign-ups are located in the cafe and main foyer.\nhttps
 ://www.crbc.org/blog/events/connect-classes-foundations/
URL:https://www.crbc.org/blog/events/connect-classes-foundations/
END:VEVENT
END:VCALENDAR