
BEGIN:VCALENDAR
VERSION:2.0
PRODID:-//eventon.com NONSGML v1.0//EN
CALSCALE:GREGORIAN
METHOD:PUBLISH
BEGIN:VEVENT
UID:69e5c69f3493e
DTSTAMP:20260420T062431Z
DTSTART:20241026T180000Z
DTEND:20241026T200000Z
LOCATION:Calvary Road Baptist Church 6811 BEULAH STREET\,  ALEXANDRIA\,  VA 22310
SUMMARY:Trunk or Treat
DESCRIPTION:Join us at Calvary Road for a fun Trunk or Treat event!   Goin
 g on from 2 to 4 pm at the Large lawn beside the church on Sunday\,  Octobe
 r 26th.   Bounce houses for the kids.   See you there!  \nhttps://www.cr
 bc.org/blog/events/trunk-or-treat-2024/
URL:https://www.crbc.org/blog/events/trunk-or-treat-2024/
END:VEVENT
END:VCALENDAR