
BEGIN:VCALENDAR
VERSION:2.0
PRODID:-//eventon.com NONSGML v1.0//EN
CALSCALE:GREGORIAN
METHOD:PUBLISH
BEGIN:VEVENT
UID:69e9c05454371
DTSTAMP:20260423T064644Z
DTSTART:20250119T143000Z
DTEND:20250120T045000Z
LOCATION:
SUMMARY:God and Country Day
DESCRIPTION:Mark your calendars for God &amp; Country Day on Sunday\,  Janu
 ary 19th with guest speaker Evangelist\,  Dr. Tim Lee. We will have one ser
 vice at 9:30 AM\,  and Connect Classes will not be meeting. Nursery and pre
 school care will be available for children ages 5 and under. Join us for[..
 ]\nhttps://www.crbc.org/blog/events/god-and-country-day-3/
URL:https://www.crbc.org/blog/events/god-and-country-day-3/
END:VEVENT
END:VCALENDAR