
BEGIN:VCALENDAR
VERSION:2.0
PRODID:-//eventon.com NONSGML v1.0//EN
CALSCALE:GREGORIAN
METHOD:PUBLISH
BEGIN:VEVENT
UID:69e834ebdb834
DTSTAMP:20260422T023939Z
DTSTART:20250420T133000Z
DTEND:20250421T035000Z
LOCATION:Calvary Road Baptist Church 6811 BEULAH STREET\,  ALEXANDRIA\,  VA 22310
SUMMARY:Easter Day Service 9:30AM
DESCRIPTION:There will be Childcare available at the Easter Eve service (5
 :00 pm) for children who -are ages 0-5 years old.  On Easter Sunday\,  t
 here will not be any adult or youth connect classes. Elementary grades 1-6 
 will meet for class at both hours. The nursery and preschool will be availa
 ble for children who[..]\nhttps://www.crbc.org/blog/events/easter-day-servi
 ce/
URL:https://www.crbc.org/blog/events/easter-day-service/
END:VEVENT
END:VCALENDAR