
BEGIN:VCALENDAR
VERSION:2.0
PRODID:-//eventon.com NONSGML v1.0//EN
CALSCALE:GREGORIAN
METHOD:PUBLISH
BEGIN:VEVENT
UID:69e6786e49d7b
DTSTAMP:20260420T190310Z
DTSTART:20260322T190000Z
DTEND:20260322T203000Z
LOCATION:
SUMMARY:CRBC Community Easter Egg Hunt
DESCRIPTION:Join us for a fun-filled afternoon at the CRBC Community Easte
 r Egg Hunt on Sunday\,  March 22 from 3:00–4:30 PM. Bring the whole fam
 ily and enjoy an exciting time on the church grounds with moon bounces\,  
 bubbles\,  an Easter egg hunt\,  and plenty of fun for everyone. &nbsp; Thi
 s is a great opportunity to[..]\nhttps://www.crbc.org/blog/events/crbc-comm
 unity-easter-egg-hunt/
URL:https://www.crbc.org/blog/events/crbc-community-easter-egg-hunt/
END:VEVENT
END:VCALENDAR