
BEGIN:VCALENDAR
VERSION:2.0
PRODID:-//eventon.com NONSGML v1.0//EN
CALSCALE:GREGORIAN
METHOD:PUBLISH
BEGIN:VEVENT
UID:69e909fd829f0
DTSTAMP:20260422T174845Z
DTSTART:20260513T230000Z
DTEND:20260514T035900Z
LOCATION:Calvary Road Baptist Church 6811 BEULAH STREET\,  ALEXANDRIA\,  VA 22310
SUMMARY:New Member's Class
DESCRIPTION:Interested in learning more about our church and what it means 
 to become a member? Join us for our New Member’s Class on Wednesday\,  Ma
 y 13 at 7:00 PM. This class is a great opportunity to learn about our missi
 on\,  beliefs\,  and how you can get connected and grow within[..]\nhttps:/
 /www.crbc.org/blog/events/new-members-class-2/
URL:https://www.crbc.org/blog/events/new-members-class-2/
END:VEVENT
END:VCALENDAR