
BEGIN:VCALENDAR
VERSION:2.0
PRODID:-//eventon.com NONSGML v1.0//EN
CALSCALE:GREGORIAN
METHOD:PUBLISH
BEGIN:VEVENT
UID:69e90a7566e2e
DTSTAMP:20260422T175045Z
DTSTART:20260517T161500Z
DTEND:20260518T035900Z
LOCATION:Calvary Road Baptist Church\,  Gymnasium
SUMMARY:Belize Fundraiser Lunch & Silent Auction
DESCRIPTION:Support our Belize mission efforts at the Belize Fundraiser Lun
 ch &amp; Silent Auction on Sunday\,  May 17 at 12:15 PM in the Gym. Enjoy a
  meal\,  participate in the silent auction\,  and help support this importa
 nt ministry. Bring your family\,  invite a friend\,  and join us for a mean
 ingful afternoon[..]\nhttps://www.crbc.org/blog/events/belize-fundraiser-lu
 nch-silent-auction/
URL:https://www.crbc.org/blog/events/belize-fundraiser-lunch-silent-auction/
END:VEVENT
END:VCALENDAR