
BEGIN:VCALENDAR
VERSION:2.0
PRODID:-//eventon.com NONSGML v1.0//EN
CALSCALE:GREGORIAN
METHOD:PUBLISH
BEGIN:VEVENT
UID:69e908ae9fe01
DTSTAMP:20260422T174310Z
DTSTART:20260520
DTEND:20260521
LOCATION:
SUMMARY:Last Day for Wednesday Ministry Gatherings
DESCRIPTION:Wednesday\,  May 20 marks the last day for all Wednesday Minist
 ry Gatherings for the season. We invite you to join us as we wrap up these 
 gatherings and celebrate a wonderful time of fellowship and spiritual growt
 h together. Please note that EntryPoint will continue beyond this date.   
    \nhttps://www.crbc.org/blog/events/last-day-for-wednesday-ministry-gat
 herings/
URL:https://www.crbc.org/blog/events/last-day-for-wednesday-ministry-gatherings/
END:VEVENT
END:VCALENDAR